Workbook

Sheet גיליון1
A1: מק"ט | B1: תאור | C1: יחידת מידה | D1: משפחת מוצר | E1: מחיר מחירון בסיס
A2: 201102-000000 | B2: ציר מילוט לפתיחת חלון סמוי | C2: =VLOOKUP(A:A,[1]גיליון1!$A:$G,7,0) -> סט | D2: =VLOOKUP(A:A,[1]גיליון1!$A:$I,9,0) -> צירים לחלונות | E2: 144.69
A3: 201102-701112 | B3: ציר מילוט לפתיחת חלון סמוי | C3: =VLOOKUP(A:A,[1]גיליון1!$A:$G,7,0) -> סט | D3: =VLOOKUP(A:A,[1]גיליון1!$A:$I,9,0) -> צירים לחלונות | E3: 173.628
A4: 201102-900512 | B4: ציר מילוט לפתיחת חלון סמוי | C4: =VLOOKUP(A:A,[1]גיליון1!$A:$G,7,0) -> סט | D4: =VLOOKUP(A:A,[1]גיליון1!$A:$I,9,0) -> צירים לחלונות | E4: 173.628
A5: 201102-900612 | B5: ציר מילוט לפתיחת חלון סמוי | C5: =VLOOKUP(A:A,[1]גיליון1!$A:$G,7,0) -> סט | D5: =VLOOKUP(A:A,[1]גיליון1!$A:$I,9,0) -> צירים לחלונות | E5: 173.628
A6: 201102-901012 | B6: ציר מילוט לפתיחת חלון סמוי | C6: =VLOOKUP(A:A,[1]גיליון1!$A:$G,7,0) -> סט | D6: =VLOOKUP(A:A,[1]גיליון1!$A:$I,9,0) -> צירים לחלונות | E6: 173.628
A7: 201103-000000 | B7: ציר לחלון/דלת בלגי | C7: =VLOOKUP(A:A,[1]גיליון1!$A:$G,7,0) -> י"ח | D7: =VLOOKUP(A:A,[1]גיליון1!$A:$I,9,0) -> צירים לחלונות | E7: 14.0768
A8: 201103-099800 | B8: ציר לחלון/דלת בלגי | C8: =VLOOKUP(A:A,[1]גיליון1!$A:$G,7,0) -> י"ח | D8: =VLOOKUP(A:A,[1]גיליון1!$A:$I,9,0) -> צירים לחלונות | E8: 32.7646
A9: 201103-099900 | B9: ציר לחלון/דלת בלגי | C9: =VLOOKUP(A:A,[1]גיליון1!$A:$G,7,0) -> י"ח | D9: =VLOOKUP(A:A,[1]גיליון1!$A:$I,9,0) -> צירים לחלונות | E9: 32.7646
A10: 201103-101312 | B10: ציר לחלון/דלת בלגי | C10: =VLOOKUP(A:A,[1]גיליון1!$A:$G,7,0) -> י"ח | D10: =VLOOKUP(A:A,[1]גיליון1!$A:$I,9,0) -> צירים לחלונות | E10: 16.1968
A11: 201103-900112 | B11: ציר לחלון/דלת בלגי | C11: =VLOOKUP(A:A,[1]גיליון1!$A:$G,7,0) -> י"ח | D11: =VLOOKUP(A:A,[1]גיליון1!$A:$I,9,0) -> צירים לחלונות | E11: 14.0768
A12: 201103-900512 | B12: ציר לחלון/דלת בלגי | C12: =VLOOKUP(A:A,[1]גיליון1!$A:$G,7,0) -> י"ח | D12: =VLOOKUP(A:A,[1]גיליון1!$A:$I,9,0) -> צירים לחלונות | E12: 14.0768
A13: 201103-900612 | B13: ציר לחלון/דלת בלגי | C13: =VLOOKUP(A:A,[1]גיליון1!$A:$G,7,0) -> י"ח | D13: =VLOOKUP(A:A,[1]גיליון1!$A:$I,9,0) -> צירים לחלונות | E13: 14.0768
... A1341: 298025-930203 | B1341: ספריי 400 מ"ל גוון 9016 מגורען | C1341: =VLOOKUP(A:A,[1]גיליון1!$A:$G,7,0) -> י"ח | D1341: =VLOOKUP(A:A,[1]גיליון1!$A:$I,9,0) -> אביזרי צבע | E1341: 101.76

Sheet גיליון2

Sheet גיליון3
